BEGIN:VCALENDAR
VERSION:2.0
PRODID:-//Ottawa World Skills - ECPv6.15.12.2//NONSGML v1.0//EN
CALSCALE:GREGORIAN
METHOD:PUBLISH
X-WR-CALNAME:Ottawa World Skills
X-ORIGINAL-URL:https://ottawa-worldskills.org
X-WR-CALDESC:Events for Ottawa World Skills
REFRESH-INTERVAL;VALUE=DURATION:PT1H
X-Robots-Tag:noindex
X-PUBLISHED-TTL:PT1H
BEGIN:VTIMEZONE
TZID:America/Toronto
BEGIN:DAYLIGHT
TZOFFSETFROM:-0500
TZOFFSETTO:-0400
TZNAME:EDT
DTSTART:20250309T070000
END:DAYLIGHT
BEGIN:STANDARD
TZOFFSETFROM:-0400
TZOFFSETTO:-0500
TZNAME:EST
DTSTART:20251102T060000
END:STANDARD
BEGIN:DAYLIGHT
TZOFFSETFROM:-0500
TZOFFSETTO:-0400
TZNAME:EDT
DTSTART:20260308T070000
END:DAYLIGHT
BEGIN:STANDARD
TZOFFSETFROM:-0400
TZOFFSETTO:-0500
TZNAME:EST
DTSTART:20261101T060000
END:STANDARD
BEGIN:DAYLIGHT
TZOFFSETFROM:-0500
TZOFFSETTO:-0400
TZNAME:EDT
DTSTART:20270314T070000
END:DAYLIGHT
BEGIN:STANDARD
TZOFFSETFROM:-0400
TZOFFSETTO:-0500
TZNAME:EST
DTSTART:20271107T060000
END:STANDARD
BEGIN:DAYLIGHT
TZOFFSETFROM:-0500
TZOFFSETTO:-0400
TZNAME:EDT
DTSTART:20280312T070000
END:DAYLIGHT
BEGIN:STANDARD
TZOFFSETFROM:-0400
TZOFFSETTO:-0500
TZNAME:EST
DTSTART:20281105T060000
END:STANDARD
END:VTIMEZONE
BEGIN:VEVENT
DTSTART;TZID=America/Toronto:20261125T133000
DTEND;TZID=America/Toronto:20261126T163000
DTSTAMP:20260421T100148
CREATED:20260416T180116Z
LAST-MODIFIED:20260416T180116Z
UID:10000492-1795613400-1795710600@ottawa-worldskills.org
SUMMARY:Job Search Workshop OCCSC (week 2)
DESCRIPTION:The OCCSC Job Search Workshop (JSW) is a group-based\, five days workshop that takes place throughout two weeks\, where job seekers have the opportunity to learn and practice the skills needed to undertake a successful job search in Canada. Graduates of the program have access to ongoing employment counselling support.
URL:https://ottawa-worldskills.org/worldskills-event/job-search-workshop-occsc-week-2-13/
LOCATION:Zoom
END:VEVENT
BEGIN:VEVENT
DTSTART;TZID=America/Toronto:20261201T100000
DTEND;TZID=America/Toronto:20261201T130000
DTSTAMP:20260421T100148
CREATED:20260416T180450Z
LAST-MODIFIED:20260417T144222Z
UID:10000532-1796119200-1796130000@ottawa-worldskills.org
SUMMARY:A la carte- The Intercultural Canadian Workplace
DESCRIPTION:The A la carte Workshop is a group-based\, half-day workshop focused on one specific topic\, where job seekers have the opportunity to enhance their knowledge ands skills to undertake a successful job search in Canada.
URL:https://ottawa-worldskills.org/worldskills-event/a-la-carte-the-intercultural-canadian-workplace-6/
LOCATION:Zoom
END:VEVENT
BEGIN:VEVENT
DTSTART;TZID=America/Toronto:20261202T173000
DTEND;TZID=America/Toronto:20261202T193000
DTSTAMP:20260421T100148
CREATED:20260416T180513Z
LAST-MODIFIED:20260416T180513Z
UID:10000542-1796232600-1796239800@ottawa-worldskills.org
SUMMARY:JSW Alumni- Connect
DESCRIPTION:The JSW Alumni Connect Event is an in-person networking opportunity for past participants of the Job Search Workshop at World Skills. It’s designed to foster connections\, share job search experiences\, and provide ongoing support for newcomers as they navigate the Canadian job market.
URL:https://ottawa-worldskills.org/worldskills-event/jsw-alumni-connect-7/
END:VEVENT
BEGIN:VEVENT
DTSTART;TZID=America/Toronto:20261207T093000
DTEND;TZID=America/Toronto:20261211T130000
DTSTAMP:20260421T100148
CREATED:20260416T180423Z
LAST-MODIFIED:20260416T180423Z
UID:10000516-1796635800-1796994000@ottawa-worldskills.org
SUMMARY:Job Search Workshop
DESCRIPTION:The Job Search Workshop (JSW) is a group-based\, one-week workshop where job seekers have the opportunity to learn and practice the skills needed to undertake a successful job search in Canada. Graduates of the program have access to ongoing employment counselling support.
URL:https://ottawa-worldskills.org/worldskills-event/job-search-workshop-45/
LOCATION:Zoom
END:VEVENT
BEGIN:VEVENT
DTSTART;TZID=America/Toronto:20261207T100000
DTEND;TZID=America/Toronto:20261210T130000
DTSTAMP:20260421T100148
CREATED:20260416T180405Z
LAST-MODIFIED:20260416T180405Z
UID:10000507-1796637600-1796907600@ottawa-worldskills.org
SUMMARY:Career Access for Newcomers
DESCRIPTION:The CAN Workshop is a great opportunity to better understand the Canadian labour market\, learn more about networking\, interview preparation\, and more.
URL:https://ottawa-worldskills.org/worldskills-event/career-access-for-newcomers-11/
LOCATION:Zoom
END:VEVENT
BEGIN:VEVENT
DTSTART;TZID=America/Toronto:20261208T100000
DTEND;TZID=America/Toronto:20261208T113000
DTSTAMP:20260421T100148
CREATED:20260411T192759Z
LAST-MODIFIED:20260411T195053Z
UID:10000473-1796724000-1796729400@ottawa-worldskills.org
SUMMARY:Employment Law
DESCRIPTION:Learn about this important topic from an Employment Lawyer in Ottawa. \nFormat: Virtual (Zoom)This event is exclusive to World Skills clients. Invitations have been sent by email—don’t miss this opportunity to connect and learn more! \nNot a World Skills client yet?If you would like to become a client\, please visit our website to learn about our programs and how to register: Become a Client – Ottawa World Skills.Questions? Email us at ws@ottawa-worldskills.org.
URL:https://ottawa-worldskills.org/worldskills-event/employment-law-7/
END:VEVENT
BEGIN:VEVENT
DTSTART;TZID=America/Toronto:20261210T100000
DTEND;TZID=America/Toronto:20261210T130000
DTSTAMP:20260421T100148
CREATED:20260416T180439Z
LAST-MODIFIED:20260417T145051Z
UID:10000527-1796896800-1796907600@ottawa-worldskills.org
SUMMARY:A la Carte- Social Media
DESCRIPTION:The A la carte Workshop is a group-based\, half-day workshop focused on one specific topic\, where job seekers have the opportunity to enhance their knowledge ands skills to undertake a successful job search in Canada.
URL:https://ottawa-worldskills.org/worldskills-event/a-la-carte-social-media-10/
LOCATION:Zoom
END:VEVENT
BEGIN:VEVENT
DTSTART;TZID=America/Toronto:20261214T093000
DTEND;TZID=America/Toronto:20261218T130000
DTSTAMP:20260421T100148
CREATED:20260416T180149Z
LAST-MODIFIED:20260416T180149Z
UID:10000498-1797240600-1797598800@ottawa-worldskills.org
SUMMARY:Job Search Workshop (French)
DESCRIPTION:The Job Search Workshop (JSW) is a group-based\, one-week workshop where job seekers have the opportunity to learn and practice the skills needed to undertake a successful job search in Canada. Graduates of the program have access to ongoing employment counselling support.
URL:https://ottawa-worldskills.org/worldskills-event/job-search-workshop-french-19/
LOCATION:Zoom
END:VEVENT
BEGIN:VEVENT
DTSTART;TZID=America/Toronto:20261214T093000
DTEND;TZID=America/Toronto:20261218T130000
DTSTAMP:20260421T100148
CREATED:20260416T180434Z
LAST-MODIFIED:20260416T180434Z
UID:10000521-1797240600-1797598800@ottawa-worldskills.org
SUMMARY:Job Search Workshop
DESCRIPTION:The Job Search Workshop (JSW) is a group-based\, one-week workshop where job seekers have the opportunity to learn and practice the skills needed to undertake a successful job search in Canada. Graduates of the program have access to ongoing employment counselling support.
URL:https://ottawa-worldskills.org/worldskills-event/job-search-workshop-50/
LOCATION:Zoom
END:VEVENT
BEGIN:VEVENT
DTSTART;TZID=America/Toronto:20261216T133000
DTEND;TZID=America/Toronto:20261216T163000
DTSTAMP:20260421T100148
CREATED:20260416T180504Z
LAST-MODIFIED:20260416T180504Z
UID:10000539-1797427800-1797438600@ottawa-worldskills.org
SUMMARY:A la carte- Presentation Skills
DESCRIPTION:The A la carte Workshop is a group-based\, half-day workshop focused on one specific topic\, where job seekers have the opportunity to enhance their knowledge ands skills to undertake a successful job search in Canada.
URL:https://ottawa-worldskills.org/worldskills-event/a-la-carte-presentation-skills-10/
LOCATION:Zoom
END:VEVENT
BEGIN:VEVENT
DTSTART;TZID=America/Toronto:20270111T090000
DTEND;TZID=America/Toronto:20270114T160000
DTSTAMP:20260421T100148
CREATED:20260421T133240Z
LAST-MODIFIED:20260421T133240Z
UID:10000554-1799658000-1799942400@ottawa-worldskills.org
SUMMARY:Empowerment Program for Racialized Newcomer Women program| Cohort 5 | Week 1
DESCRIPTION:The ERNW program offers a comprehensive and structured approach to supporting participants in their career development and job search journey. Designed to address both practical skill-building and meaningful professional connections\, the program integrates several key components to ensure participants are well-equipped to navigate the labor market with confidence.\nA central feature of the program is its expert-led workshops\, which provide participants with essential knowledge and hands-on learning opportunities. These workshops cover a wide range of topics\, including career empowerment\, personal branding\, resume development\, interview techniques\, networking strategies\, and understanding labor market dynamics. The goal is to build both competence and confidence in job seekers by equipping them with relevant\, up-to-date tools and insights.\nIn addition to group learning\, the program offers personalized counselling\, ensuring that each participant receives tailored support aligned with their individual career goals. Through one-on-one coaching\, participants receive guidance on resume writing\, job application strategies\, interview preparation\, and securing endorsements. This individualized approach helps address specific barriers and strengthens each participant’s overall employability.\nThe ERNW program also emphasizes the importance of employer connections. Participants are given opportunities to engage directly with employers through targeted recruitment events\, networking sessions\, and coaching initiatives. These interactions are designed to foster meaningful relationships\, increase visibility in the job market\, and create pathways to employment opportunities.\nFinally\, the program includes a mentorship component\, connecting participants with experienced professionals in their field of interest. Mentors provide ongoing guidance\, share industry insights\, and support participants in both job performance and long-term career advancement. This relationship helps bridge the gap between job readiness and career growth.\nOverall\, the ERNW program delivers a holistic and participant-centered experience that combines skill development\, individualized support\, employer engagement\, and mentorship to effectively support successful workforce integration and career progression.  \nThe ERNW Program offers a series of interactive workshops every 6 weeks\, each lasting 7 days (from 9 AM to 4 PM). These workshops provide personalized interventions\, expert coaching\, practical skill-building\, and valuable insights to support your career journey.  \nThis event is exclusive to World Skills clients. Invitations have been sent by email—don’t miss this opportunity to connect and learn more! \nNot a World Skills client yet?\nIf you would like to become a client\, please visit our website to learn about our programs and how to register Become a Client – Ottawa World Skills.\nQuestions? Email us at ws@ottawa-worldskills.org.
URL:https://ottawa-worldskills.org/worldskills-event/empowerment-program-for-racialized-newcomer-women-program-cohort-5-week-1/
LOCATION:Zoom
END:VEVENT
BEGIN:VEVENT
DTSTART;TZID=America/Toronto:20270112T100000
DTEND;TZID=America/Toronto:20270112T113000
DTSTAMP:20260421T100148
CREATED:20260411T192812Z
LAST-MODIFIED:20260411T195202Z
UID:10000476-1799748000-1799753400@ottawa-worldskills.org
SUMMARY:Service Canada: Employment Insurance Info Session
DESCRIPTION:What is Employment Insurance(EI)\, and why is it important? \nFormat: Virtual (Zoom)This event is exclusive to World Skills clients. Invitations have been sent by email—don’t miss this opportunity to connect and learn more! \nNot a World Skills client yet?If you would like to become a client\, please visit our website to learn about our programs and how to register: Become a Client – Ottawa World Skills.Questions? Email us at ws@ottawa-worldskills.org.
URL:https://ottawa-worldskills.org/worldskills-event/service-canada-employment-insurance-info-session-2/
END:VEVENT
BEGIN:VEVENT
DTSTART;TZID=America/Toronto:20270118T090000
DTEND;TZID=America/Toronto:20270120T160000
DTSTAMP:20260421T100148
CREATED:20260421T133241Z
LAST-MODIFIED:20260421T133241Z
UID:10000555-1800262800-1800460800@ottawa-worldskills.org
SUMMARY:Empowerment Program for Racialized Newcomer Women program| Cohort 5 | Week 2
DESCRIPTION:The ERNW program offers a comprehensive and structured approach to supporting participants in their career development and job search journey. Designed to address both practical skill-building and meaningful professional connections\, the program integrates several key components to ensure participants are well-equipped to navigate the labor market with confidence.\nA central feature of the program is its expert-led workshops\, which provide participants with essential knowledge and hands-on learning opportunities. These workshops cover a wide range of topics\, including career empowerment\, personal branding\, resume development\, interview techniques\, networking strategies\, and understanding labor market dynamics. The goal is to build both competence and confidence in job seekers by equipping them with relevant\, up-to-date tools and insights.\nIn addition to group learning\, the program offers personalized counselling\, ensuring that each participant receives tailored support aligned with their individual career goals. Through one-on-one coaching\, participants receive guidance on resume writing\, job application strategies\, interview preparation\, and securing endorsements. This individualized approach helps address specific barriers and strengthens each participant’s overall employability.\nThe ERNW program also emphasizes the importance of employer connections. Participants are given opportunities to engage directly with employers through targeted recruitment events\, networking sessions\, and coaching initiatives. These interactions are designed to foster meaningful relationships\, increase visibility in the job market\, and create pathways to employment opportunities.\nFinally\, the program includes a mentorship component\, connecting participants with experienced professionals in their field of interest. Mentors provide ongoing guidance\, share industry insights\, and support participants in both job performance and long-term career advancement. This relationship helps bridge the gap between job readiness and career growth.\nOverall\, the ERNW program delivers a holistic and participant-centered experience that combines skill development\, individualized support\, employer engagement\, and mentorship to effectively support successful workforce integration and career progression.  \nThe ERNW Program offers a series of interactive workshops every 6 weeks\, each lasting 7 days (from 9 AM to 4 PM). These workshops provide personalized interventions\, expert coaching\, practical skill-building\, and valuable insights to support your career journey.  \nThis event is exclusive to World Skills clients. Invitations have been sent by email—don’t miss this opportunity to connect and learn more! \nNot a World Skills client yet?\nIf you would like to become a client\, please visit our website to learn about our programs and how to register Become a Client – Ottawa World Skills.\nQuestions? Email us at ws@ottawa-worldskills.org.
URL:https://ottawa-worldskills.org/worldskills-event/empowerment-program-for-racialized-newcomer-women-program-cohort-5-week-2/
LOCATION:Zoom
END:VEVENT
BEGIN:VEVENT
DTSTART;TZID=America/Toronto:20270209T100000
DTEND;TZID=America/Toronto:20270209T233000
DTSTAMP:20260421T100148
CREATED:20260411T192812Z
LAST-MODIFIED:20260411T195340Z
UID:10000477-1802167200-1802215800@ottawa-worldskills.org
SUMMARY:World Education Services(WES) Information session
DESCRIPTION:World Education Services (WES) is a non-profit social enterprise that supports the educational\, economic\, and social inclusion of immigrants\, refugees\, and international students.Format: Virtual (Zoom)This event is exclusive to World Skills clients. Invitations have been sent by email—don’t miss this opportunity to connect and learn more! \nNot a World Skills client yet?If you would like to become a client\, please visit our website to learn about our programs and how to register: Become a Client – Ottawa World Skills.Questions? Email us at ws@ottawa-worldskills.org.
URL:https://ottawa-worldskills.org/worldskills-event/world-education-serviceswes-information-session-4/
END:VEVENT
BEGIN:VEVENT
DTSTART;TZID=America/Toronto:20270223T100000
DTEND;TZID=America/Toronto:20270223T113000
DTSTAMP:20260421T100148
CREATED:20260411T192812Z
LAST-MODIFIED:20260411T195419Z
UID:10000478-1803376800-1803382200@ottawa-worldskills.org
SUMMARY:Employment Law
DESCRIPTION:Learn about this important topic from an Employment Lawyer in Ottawa. \nFormat: Virtual (Zoom)This event is exclusive to World Skills clients. Invitations have been sent by email—don’t miss this opportunity to connect and learn more! \nNot a World Skills client yet?If you would like to become a client\, please visit our website to learn about our programs and how to register: Become a Client – Ottawa World Skillss.Questions? Email us at ws@ottawa-worldskills.org.
URL:https://ottawa-worldskills.org/worldskills-event/employment-law-8/
END:VEVENT
BEGIN:VEVENT
DTSTART;TZID=America/Toronto:20270301T090000
DTEND;TZID=America/Toronto:20270305T160000
DTSTAMP:20260421T100148
CREATED:20260421T133254Z
LAST-MODIFIED:20260421T133254Z
UID:10000556-1803891600-1804262400@ottawa-worldskills.org
SUMMARY:Empowerment Program for Racialized Newcomer Women program| Cohort 6 | Week 1
DESCRIPTION:The ERNW program offers a comprehensive and structured approach to supporting participants in their career development and job search journey. Designed to address both practical skill-building and meaningful professional connections\, the program integrates several key components to ensure participants are well-equipped to navigate the labor market with confidence.\nA central feature of the program is its expert-led workshops\, which provide participants with essential knowledge and hands-on learning opportunities. These workshops cover a wide range of topics\, including career empowerment\, personal branding\, resume development\, interview techniques\, networking strategies\, and understanding labor market dynamics. The goal is to build both competence and confidence in job seekers by equipping them with relevant\, up-to-date tools and insights.\nIn addition to group learning\, the program offers personalized counselling\, ensuring that each participant receives tailored support aligned with their individual career goals. Through one-on-one coaching\, participants receive guidance on resume writing\, job application strategies\, interview preparation\, and securing endorsements. This individualized approach helps address specific barriers and strengthens each participant’s overall employability.\nThe ERNW program also emphasizes the importance of employer connections. Participants are given opportunities to engage directly with employers through targeted recruitment events\, networking sessions\, and coaching initiatives. These interactions are designed to foster meaningful relationships\, increase visibility in the job market\, and create pathways to employment opportunities.\nFinally\, the program includes a mentorship component\, connecting participants with experienced professionals in their field of interest. Mentors provide ongoing guidance\, share industry insights\, and support participants in both job performance and long-term career advancement. This relationship helps bridge the gap between job readiness and career growth.\nOverall\, the ERNW program delivers a holistic and participant-centered experience that combines skill development\, individualized support\, employer engagement\, and mentorship to effectively support successful workforce integration and career progression.  \nThe ERNW Program offers a series of interactive workshops every 6 weeks\, each lasting 7 days (from 9 AM to 4 PM). These workshops provide personalized interventions\, expert coaching\, practical skill-building\, and valuable insights to support your career journey.  \nThis event is exclusive to World Skills clients. Invitations have been sent by email—don’t miss this opportunity to connect and learn more! \nNot a World Skills client yet?\nIf you would like to become a client\, please visit our website to learn about our programs and how to register Become a Client – Ottawa World Skills.\nQuestions? Email us at ws@ottawa-worldskills.org.
URL:https://ottawa-worldskills.org/worldskills-event/empowerment-program-for-racialized-newcomer-women-program-cohort-6-week-1/
LOCATION:Zoom
END:VEVENT
BEGIN:VEVENT
DTSTART;TZID=America/Toronto:20270310T090000
DTEND;TZID=America/Toronto:20270311T160000
DTSTAMP:20260421T100148
CREATED:20260421T133254Z
LAST-MODIFIED:20260421T133254Z
UID:10000557-1804669200-1804780800@ottawa-worldskills.org
SUMMARY:Empowerment Program for Racialized Newcomer Women program| Cohort 6 | Week 2
DESCRIPTION:The ERNW program offers a comprehensive and structured approach to supporting participants in their career development and job search journey. Designed to address both practical skill-building and meaningful professional connections\, the program integrates several key components to ensure participants are well-equipped to navigate the labor market with confidence.\nA central feature of the program is its expert-led workshops\, which provide participants with essential knowledge and hands-on learning opportunities. These workshops cover a wide range of topics\, including career empowerment\, personal branding\, resume development\, interview techniques\, networking strategies\, and understanding labor market dynamics. The goal is to build both competence and confidence in job seekers by equipping them with relevant\, up-to-date tools and insights.\nIn addition to group learning\, the program offers personalized counselling\, ensuring that each participant receives tailored support aligned with their individual career goals. Through one-on-one coaching\, participants receive guidance on resume writing\, job application strategies\, interview preparation\, and securing endorsements. This individualized approach helps address specific barriers and strengthens each participant’s overall employability.\nThe ERNW program also emphasizes the importance of employer connections. Participants are given opportunities to engage directly with employers through targeted recruitment events\, networking sessions\, and coaching initiatives. These interactions are designed to foster meaningful relationships\, increase visibility in the job market\, and create pathways to employment opportunities.\nFinally\, the program includes a mentorship component\, connecting participants with experienced professionals in their field of interest. Mentors provide ongoing guidance\, share industry insights\, and support participants in both job performance and long-term career advancement. This relationship helps bridge the gap between job readiness and career growth.\nOverall\, the ERNW program delivers a holistic and participant-centered experience that combines skill development\, individualized support\, employer engagement\, and mentorship to effectively support successful workforce integration and career progression.  \nThe ERNW Program offers a series of interactive workshops every 6 weeks\, each lasting 7 days (from 9 AM to 4 PM). These workshops provide personalized interventions\, expert coaching\, practical skill-building\, and valuable insights to support your career journey.  \nThis event is exclusive to World Skills clients. Invitations have been sent by email—don’t miss this opportunity to connect and learn more! \nNot a World Skills client yet?\nIf you would like to become a client\, please visit our website to learn about our programs and how to register Become a Client – Ottawa World Skills.\nQuestions? Email us at ws@ottawa-worldskills.org.
URL:https://ottawa-worldskills.org/worldskills-event/empowerment-program-for-racialized-newcomer-women-program-cohort-6-week-2/
LOCATION:Zoom
END:VEVENT
BEGIN:VEVENT
DTSTART;TZID=America/Toronto:20270316T100000
DTEND;TZID=America/Toronto:20270316T113000
DTSTAMP:20260421T100148
CREATED:20260411T192813Z
LAST-MODIFIED:20260411T195505Z
UID:10000479-1805191200-1805196600@ottawa-worldskills.org
SUMMARY:Service Canada: Services for newcomers and Temporary Foreign Workers
DESCRIPTION:This session is designed to help newcomers and temporary foreign workers better understand the wide range of services available to them in Canada \nFormat: Virtual (Zoom)This event is exclusive to World Skills clients. Invitations have been sent by email—don’t miss this opportunity to connect and learn more! \nNot a World Skills client yet?If you would like to become a client\, please visit our website to learn about our programs and how to register: Become a Client – Ottawa World Skills.Questions? Email us at ws@ottawa-worldskills.org.
URL:https://ottawa-worldskills.org/worldskills-event/service-canada-services-for-newcomers-and-temporary-foreign-workers-4/
END:VEVENT
END:VCALENDAR