BEGIN:VCALENDAR
VERSION:2.0
PRODID:-//Ottawa World Skills - ECPv6.15.12.2//NONSGML v1.0//EN
CALSCALE:GREGORIAN
METHOD:PUBLISH
X-WR-CALNAME:Ottawa World Skills
X-ORIGINAL-URL:https://ottawa-worldskills.org
X-WR-CALDESC:Events for Ottawa World Skills
REFRESH-INTERVAL;VALUE=DURATION:PT1H
X-Robots-Tag:noindex
X-PUBLISHED-TTL:PT1H
BEGIN:VTIMEZONE
TZID:America/Toronto
BEGIN:DAYLIGHT
TZOFFSETFROM:-0500
TZOFFSETTO:-0400
TZNAME:EDT
DTSTART:20250309T070000
END:DAYLIGHT
BEGIN:STANDARD
TZOFFSETFROM:-0400
TZOFFSETTO:-0500
TZNAME:EST
DTSTART:20251102T060000
END:STANDARD
BEGIN:DAYLIGHT
TZOFFSETFROM:-0500
TZOFFSETTO:-0400
TZNAME:EDT
DTSTART:20260308T070000
END:DAYLIGHT
BEGIN:STANDARD
TZOFFSETFROM:-0400
TZOFFSETTO:-0500
TZNAME:EST
DTSTART:20261101T060000
END:STANDARD
BEGIN:DAYLIGHT
TZOFFSETFROM:-0500
TZOFFSETTO:-0400
TZNAME:EDT
DTSTART:20270314T070000
END:DAYLIGHT
BEGIN:STANDARD
TZOFFSETFROM:-0400
TZOFFSETTO:-0500
TZNAME:EST
DTSTART:20271107T060000
END:STANDARD
END:VTIMEZONE
BEGIN:VEVENT
DTSTART;TZID=America/Toronto:20260504T090000
DTEND;TZID=America/Toronto:20260508T130000
DTSTAMP:20260421T222005
CREATED:20260421T133254Z
LAST-MODIFIED:20260421T133254Z
UID:10000558-1777885200-1778245200@ottawa-worldskills.org
SUMMARY:From Survivor to Thriver Program | Cohort 1 | Week 1
DESCRIPTION:From Survivor to Thriver is a supportive\, empowerment?focused program helping participants build confidence\, resilience\, and skills for personal and career growth. Through interactive workshops\, participants strengthen communication\, set goals\, and explore pathways to education\, training\, and employment in a safe\, trauma?informed space.\nDelivered in partnership with Immigrant Women Services Ottawa and Ottawa World Skills.\nExclusive to Ottawa World Skills clients.\nNot a client yet? Visit ottawa?worldskills.org or email ws@ottawa-worldskills.org.
URL:https://ottawa-worldskills.org/worldskills-event/from-survivor-to-thriver-program-cohort-1-week-1/
END:VEVENT
BEGIN:VEVENT
DTSTART;TZID=America/Toronto:20260511T090000
DTEND;TZID=America/Toronto:20260515T130000
DTSTAMP:20260421T222005
CREATED:20260421T133254Z
LAST-MODIFIED:20260421T133254Z
UID:10000559-1778490000-1778850000@ottawa-worldskills.org
SUMMARY:From Survivor to Thriver Program | Cohort 1 | Week 2
DESCRIPTION:From Survivor to Thriver is a supportive\, empowerment?focused program helping participants build confidence\, resilience\, and skills for personal and career growth. Through interactive workshops\, participants strengthen communication\, set goals\, and explore pathways to education\, training\, and employment in a safe\, trauma?informed space.\nDelivered in partnership with Immigrant Women Services Ottawa and Ottawa World Skills.\nExclusive to Ottawa World Skills clients.\nNot a client yet? Visit ottawa?worldskills.org or email ws@ottawa-worldskills.org.
URL:https://ottawa-worldskills.org/worldskills-event/from-survivor-to-thriver-program-cohort-1-week-2/
END:VEVENT
BEGIN:VEVENT
DTSTART;TZID=America/Toronto:20260519T090000
DTEND;TZID=America/Toronto:20260519T130000
DTSTAMP:20260421T222005
CREATED:20260421T133255Z
LAST-MODIFIED:20260421T133255Z
UID:10000560-1779181200-1779195600@ottawa-worldskills.org
SUMMARY:From Survivor to Thriver Program | Cohort 1 | Week 3
DESCRIPTION:From Survivor to Thriver is a supportive\, empowerment?focused program helping participants build confidence\, resilience\, and skills for personal and career growth. Through interactive workshops\, participants strengthen communication\, set goals\, and explore pathways to education\, training\, and employment in a safe\, trauma?informed space.\nDelivered in partnership with Immigrant Women Services Ottawa and Ottawa World Skills.\nExclusive to Ottawa World Skills clients.\nNot a client yet? Visit ottawa?worldskills.org or email ws@ottawa-worldskills.org.
URL:https://ottawa-worldskills.org/worldskills-event/from-survivor-to-thriver-program-cohort-1-week-3/
END:VEVENT
BEGIN:VEVENT
DTSTART;TZID=America/Toronto:20260601T090000
DTEND;TZID=America/Toronto:20260605T130000
DTSTAMP:20260421T222005
CREATED:20260421T133453Z
LAST-MODIFIED:20260421T133453Z
UID:10000561-1780304400-1780664400@ottawa-worldskills.org
SUMMARY:From Survivor to Thriver Program | Cohort 2 | Week 1
DESCRIPTION:From Survivor to Thriver is a supportive\, empowerment?focused program helping participants build confidence\, resilience\, and skills for personal and career growth. Through interactive workshops\, participants strengthen communication\, set goals\, and explore pathways to education\, training\, and employment in a safe\, trauma?informed space.\nDelivered in partnership with Immigrant Women Services Ottawa and Ottawa World Skills.\nExclusive to Ottawa World Skills clients.\nNot a client yet? Visit ottawa?worldskills.org or email ws@ottawa-worldskills.org.
URL:https://ottawa-worldskills.org/worldskills-event/from-survivor-to-thriver-program-cohort-2-week-1/
END:VEVENT
BEGIN:VEVENT
DTSTART;TZID=America/Toronto:20260608T090000
DTEND;TZID=America/Toronto:20260612T130000
DTSTAMP:20260421T222005
CREATED:20260421T133453Z
LAST-MODIFIED:20260421T133453Z
UID:10000562-1780909200-1781269200@ottawa-worldskills.org
SUMMARY:From Survivor to Thriver Program | Cohort 2 | Week 2
DESCRIPTION:From Survivor to Thriver is a supportive\, empowerment?focused program helping participants build confidence\, resilience\, and skills for personal and career growth. Through interactive workshops\, participants strengthen communication\, set goals\, and explore pathways to education\, training\, and employment in a safe\, trauma?informed space.\nDelivered in partnership with Immigrant Women Services Ottawa and Ottawa World Skills.\nExclusive to Ottawa World Skills clients.\nNot a client yet? Visit ottawa?worldskills.org or email ws@ottawa-worldskills.org.
URL:https://ottawa-worldskills.org/worldskills-event/from-survivor-to-thriver-program-cohort-2-week-2/
END:VEVENT
BEGIN:VEVENT
DTSTART;TZID=America/Toronto:20260615T090000
DTEND;TZID=America/Toronto:20260619T130000
DTSTAMP:20260421T222005
CREATED:20260421T133453Z
LAST-MODIFIED:20260421T133453Z
UID:10000563-1781514000-1781874000@ottawa-worldskills.org
SUMMARY:From Survivor to Thriver Program | Cohort 2 | Week 3
DESCRIPTION:From Survivor to Thriver is a supportive\, empowerment?focused program helping participants build confidence\, resilience\, and skills for personal and career growth. Through interactive workshops\, participants strengthen communication\, set goals\, and explore pathways to education\, training\, and employment in a safe\, trauma?informed space.\nDelivered in partnership with Immigrant Women Services Ottawa and Ottawa World Skills.\nExclusive to Ottawa World Skills clients.\nNot a client yet? Visit ottawa?worldskills.org or email ws@ottawa-worldskills.org.
URL:https://ottawa-worldskills.org/worldskills-event/from-survivor-to-thriver-program-cohort-2-week-3/
END:VEVENT
BEGIN:VEVENT
DTSTART;TZID=America/Toronto:20260706T090000
DTEND;TZID=America/Toronto:20260710T130000
DTSTAMP:20260421T222005
CREATED:20260421T133454Z
LAST-MODIFIED:20260421T133454Z
UID:10000564-1783328400-1783688400@ottawa-worldskills.org
SUMMARY:From Survivor to Thriver Program | Cohort 3 | Week 1
DESCRIPTION:From Survivor to Thriver is a supportive\, empowerment?focused program helping participants build confidence\, resilience\, and skills for personal and career growth. Through interactive workshops\, participants strengthen communication\, set goals\, and explore pathways to education\, training\, and employment in a safe\, trauma?informed space.\nDelivered in partnership with Immigrant Women Services Ottawa and Ottawa World Skills.\nExclusive to Ottawa World Skills clients.\nNot a client yet? Visit ottawa?worldskills.org or email ws@ottawa-worldskills.org.
URL:https://ottawa-worldskills.org/worldskills-event/from-survivor-to-thriver-program-cohort-3-week-1/
END:VEVENT
BEGIN:VEVENT
DTSTART;TZID=America/Toronto:20260713T090000
DTEND;TZID=America/Toronto:20260717T130000
DTSTAMP:20260421T222005
CREATED:20260421T133454Z
LAST-MODIFIED:20260421T133454Z
UID:10000565-1783933200-1784293200@ottawa-worldskills.org
SUMMARY:From Survivor to Thriver Program | Cohort 3 | Week 2
DESCRIPTION:From Survivor to Thriver is a supportive\, empowerment?focused program helping participants build confidence\, resilience\, and skills for personal and career growth. Through interactive workshops\, participants strengthen communication\, set goals\, and explore pathways to education\, training\, and employment in a safe\, trauma?informed space.\nDelivered in partnership with Immigrant Women Services Ottawa and Ottawa World Skills.\nExclusive to Ottawa World Skills clients.\nNot a client yet? Visit ottawa?worldskills.org or email ws@ottawa-worldskills.org.
URL:https://ottawa-worldskills.org/worldskills-event/from-survivor-to-thriver-program-cohort-3-week-2/
END:VEVENT
BEGIN:VEVENT
DTSTART;TZID=America/Toronto:20260720T090000
DTEND;TZID=America/Toronto:20260720T130000
DTSTAMP:20260421T222005
CREATED:20260421T133521Z
LAST-MODIFIED:20260421T133521Z
UID:10000566-1784538000-1784552400@ottawa-worldskills.org
SUMMARY:From Survivor to Thriver Program | Cohort 3 | Week 3
DESCRIPTION:From Survivor to Thriver is a supportive\, empowerment?focused program helping participants build confidence\, resilience\, and skills for personal and career growth. Through interactive workshops\, participants strengthen communication\, set goals\, and explore pathways to education\, training\, and employment in a safe\, trauma?informed space.\nDelivered in partnership with Immigrant Women Services Ottawa and Ottawa World Skills.\nExclusive to Ottawa World Skills clients.\nNot a client yet? Visit ottawa?worldskills.org or email ws@ottawa-worldskills.org.
URL:https://ottawa-worldskills.org/worldskills-event/from-survivor-to-thriver-program-cohort-3-week-3/
END:VEVENT
BEGIN:VEVENT
DTSTART;TZID=America/Toronto:20260908T090000
DTEND;TZID=America/Toronto:20260911T130000
DTSTAMP:20260421T222005
CREATED:20260421T133521Z
LAST-MODIFIED:20260421T133521Z
UID:10000567-1788858000-1789131600@ottawa-worldskills.org
SUMMARY:From Survivor to Thriver Program | Cohort 4 | Week 1
DESCRIPTION:From Survivor to Thriver is a supportive\, empowerment?focused program helping participants build confidence\, resilience\, and skills for personal and career growth. Through interactive workshops\, participants strengthen communication\, set goals\, and explore pathways to education\, training\, and employment in a safe\, trauma?informed space.\nDelivered in partnership with Immigrant Women Services Ottawa and Ottawa World Skills.\nExclusive to Ottawa World Skills clients.\nNot a client yet? Visit ottawa?worldskills.org or email ws@ottawa-worldskills.org.
URL:https://ottawa-worldskills.org/worldskills-event/from-survivor-to-thriver-program-cohort-4-week-1/
END:VEVENT
BEGIN:VEVENT
DTSTART;TZID=America/Toronto:20260914T090000
DTEND;TZID=America/Toronto:20260917T130000
DTSTAMP:20260421T222005
CREATED:20260421T133522Z
LAST-MODIFIED:20260421T133522Z
UID:10000568-1789376400-1789650000@ottawa-worldskills.org
SUMMARY:From Survivor to Thriver Program | Cohort 4 | Week 2
DESCRIPTION:From Survivor to Thriver is a supportive\, empowerment?focused program helping participants build confidence\, resilience\, and skills for personal and career growth. Through interactive workshops\, participants strengthen communication\, set goals\, and explore pathways to education\, training\, and employment in a safe\, trauma?informed space.\nDelivered in partnership with Immigrant Women Services Ottawa and Ottawa World Skills.\nExclusive to Ottawa World Skills clients.\nNot a client yet? Visit ottawa?worldskills.org or email ws@ottawa-worldskills.org.
URL:https://ottawa-worldskills.org/worldskills-event/from-survivor-to-thriver-program-cohort-4-week-2/
END:VEVENT
BEGIN:VEVENT
DTSTART;TZID=America/Toronto:20260921T090000
DTEND;TZID=America/Toronto:20260922T130000
DTSTAMP:20260421T222005
CREATED:20260421T133522Z
LAST-MODIFIED:20260421T133522Z
UID:10000569-1789981200-1790082000@ottawa-worldskills.org
SUMMARY:From Survivor to Thriver Program | Cohort 4 | Week 3
DESCRIPTION:From Survivor to Thriver is a supportive\, empowerment?focused program helping participants build confidence\, resilience\, and skills for personal and career growth. Through interactive workshops\, participants strengthen communication\, set goals\, and explore pathways to education\, training\, and employment in a safe\, trauma?informed space.\nDelivered in partnership with Immigrant Women Services Ottawa and Ottawa World Skills.\nExclusive to Ottawa World Skills clients.\nNot a client yet? Visit ottawa?worldskills.org or email ws@ottawa-worldskills.org.
URL:https://ottawa-worldskills.org/worldskills-event/from-survivor-to-thriver-program-cohort-4-week-3/
END:VEVENT
END:VCALENDAR